Workbook

Sheet Sortition Books
A1: Year | B1: Author | C1: Title | D1: Price | E1: Rating | F1: # Ratings | G1: Pages | H1: $/100pages | I1: Pages/$ | J1: Adj Rating | K1: Remarks | L1: AGD | M1: DD | N1: CL | O1: EBL
A2: -425 | B2: Pseudo-Xenophon | C2: Constitution of the Athenians (425 BC; 2022 edition) | D2: 14 | F2: 0 | G2: 49 | H2: =D2/(G2/100) -> 28.571429 | I2: =G2/D2 -> 3.5 | J2: =IF(F2=0,4,(E2-'Key to Columns'!$B$28)*'Key to Columns'!$B$29/('Key to Columns'!$B$29+'Key to Columns'!$B$30/F2)+'Key to Columns'!$B$28) -> 4 | K2: 3.6 on Goodreads | L2: Yes | M2: No | N2: No | O2: Yes
A3: -360 | B3: Plato | C3: Laws (360 BC; 2020 edition) | D3: 13 | E3: 4.2 | F3: 374 | G3: 246 | H3: =D3/(G3/100) -> 5.2845528 | I3: =G3/D3 -> 18.923077 | J3: =IF(F3=0,4,(E3-'Key to Columns'!$B$28)*'Key to Columns'!$B$29/('Key to Columns'!$B$29+'Key to Columns'!$B$30/F3)+'Key to Columns'!$B$28) -> 4.206178 | L3: Yes | M3: No | N3: No | O3: Yes
A4: -350 | B4: Aristotle | C4: Constitution of the Athenians (350 BC; 2015 edition) | D4: 6 | F4: 0 | G4: 64 | H4: =D4/(G4/100) -> 9.375 | I4: =G4/D4 -> 10.666667 | J4: =IF(F4=0,4,(E4-'Key to Columns'!$B$28)*'Key to Columns'!$B$29/('Key to Columns'!$B$29+'Key to Columns'!$B$30/F4)+'Key to Columns'!$B$28) -> 4 | K4: 3.8 on Goodreads | L4: Yes | M4: No | N4: No | O4: Yes
A5: -350 | B5: Aristotle | C5: Politics (350 BC; 1985 edition) | D5: 7 | E5: 4.4 | F5: 18 | G5: 290 | H5: =D5/(G5/100) -> 2.4137931 | I5: =G5/D5 -> 41.428571 | J5: =IF(F5=0,4,(E5-'Key to Columns'!$B$28)*'Key to Columns'!$B$29/('Key to Columns'!$B$29+'Key to Columns'!$B$30/F5)+'Key to Columns'!$B$28) -> 4.3854154 | L5: Yes | M5: No | N5: No | O5: Yes
A6: 1627 | B6: Gataker, Thomas (ed. Conall Boyle) | C6: The Nature and Use of Lotteries, (1627, 2008) | D6: 31 | E6: 5 | F6: 1 | G6: 231 | H6: =D6/(G6/100) -> 13.419913 | I6: =G6/D6 -> 7.4516129 | J6: =IF(F6=0,4,(E6-'Key to Columns'!$B$28)*'Key to Columns'!$B$29/('Key to Columns'!$B$29+'Key to Columns'!$B$30/F6)+'Key to Columns'!$B$28) -> 4.4083424 | L6: No | M6: No | N6: No | O6: Yes
A7: 1891 | B7: Headlam, James Wycliffe | C7: Election by lot at Athens (2012 edition) | D7: 11 | F7: 0 | G7: 246 | H7: =D7/(G7/100) -> 4.4715447 | I7: =G7/D7 -> 22.363636 | J7: =IF(F7=0,4,(E7-'Key to Columns'!$B$28)*'Key to Columns'!$B$29/('Key to Columns'!$B$29+'Key to Columns'!$B$30/F7)+'Key to Columns'!$B$28) -> 4 | L7: Yes | M7: No | N7: No | O7: Yes
A8: 1896 | B8: Greenidge, A. H. J. | C8: A Handbook of Greek Constitutional History (2009 edition) | D8: 28 | F8: 0 | G8: 298 | H8: =D8/(G8/100) -> 9.3959732 | I8: =G8/D8 -> 10.642857 | J8: =IF(F8=0,4,(E8-'Key to Columns'!$B$28)*'Key to Columns'!$B$29/('Key to Columns'!$B$29+'Key to Columns'!$B$30/F8)+'Key to Columns'!$B$28) -> 4 | L8: Yes | M8: No | N8: No | O8: Yes
A9: 1913 | B9: Lowell , Abbott Lawrence | C9: Public Opinion and Popular Government (2009 edition) | D9: 27 | E9: 4 | F9: 2 | G9: 446 | H9: =D9/(G9/100) -> 6.0538117 | I9: =G9/D9 -> 16.518519 | J9: =IF(F9=0,4,(E9-'Key to Columns'!$B$28)*'Key to Columns'!$B$29/('Key to Columns'!$B$29+'Key to Columns'!$B$30/F9)+'Key to Columns'!$B$28) -> 4.3222355 | L9: No | M9: No | N9: No | O9: Yes
A10: 1936 | B10: Anonymous | C10: Pour le Tirage au Sort de la Chambre des Députés (For the Random Selection of the Chamber of Deputies) (1936) | F10: 0 | G10: 166 | H10: =D10/(G10/100) -> 0 | I10: =G10/D10 -> #DIV/0! | J10: =IF(F10=0,4,(E10-'Key to Columns'!$B$28)*'Key to Columns'!$B$29/('Key to Columns'!$B$29+'Key to Columns'!$B$30/F10)+'Key to Columns'!$B$28) -> 4 | K10: French only; not available | L10: No | M10: No | N10: No | O10: Yes
A11: 1967 | B11: Pitkin, Hanna Fenichel | C11: The concept of representation (1967) | D11: 32 | E11: 4.6 | F11: 26 | G11: 332 | H11: =D11/(G11/100) -> 9.6385542 | I11: =G11/D11 -> 10.375 | J11: =IF(F11=0,4,(E11-'Key to Columns'!$B$28)*'Key to Columns'!$B$29/('Key to Columns'!$B$29+'Key to Columns'!$B$30/F11)+'Key to Columns'!$B$28) -> 4.5171606 | L11: No | M11: No | N11: No | O11: Yes
A12: 1969 | B12: Pitkin, Hanna Fenichel | C12: Representation | F12: 0 | H12: =D12/(G12/100) -> #DIV/0! | I12: =G12/D12 -> #DIV/0! | J12: =IF(F12=0,4,(E12-'Key to Columns'!$B$28)*'Key to Columns'!$B$29/('Key to Columns'!$B$29+'Key to Columns'!$B$30/F12)+'Key to Columns'!$B$28) -> 4 | K12: Out of Print | L12: No | M12: No | N12: Yes | O12: No
A13: 1970 | B13: Dahl, Robert A. | C13: After the Revolution? (1990 edition) | D13: 25 | E13: 5 | F13: 2 | G13: 168 | H13: =D13/(G13/100) -> 14.880952 | I13: =G13/D13 -> 6.72 | J13: =IF(F13=0,4,(E13-'Key to Columns'!$B$28)*'Key to Columns'!$B$29/('Key to Columns'!$B$29+'Key to Columns'!$B$30/F13)+'Key to Columns'!$B$28) -> 4.4445167 | K13: Sortition on pp. 44-56, 79-80, 149-153. | L13: No | M13: No | N13: Yes | O13: Yes
A14: 1970 | B14: Wolff, Robert Paul | C14: In Defense of Anarchism (1998 edition) | D14: 22 | E14: 4.2 | F14: 38 | G14: 120 | H14: =D14/(G14/100) -> 18.333333 | I14: =G14/D14 -> 5.4545455 | J14: =IF(F14=0,4,(E14-'Key to Columns'!$B$28)*'Key to Columns'!$B$29/('Key to Columns'!$B$29+'Key to Columns'!$B$30/F14)+'Key to Columns'!$B$28) -> 4.245826 | L14: No | M14: No | N14: No | O14: Yes
A15: 1972 | B15: Rieman, Jeffrey H. | C15: In defense of political philosophy;: a reply to Robert Paul Wolff's in defense of anarchism | D15: 4 | E15: 5 | F15: 2 | G15: 256 | H15: =D15/(G15/100) -> 1.5625 | I15: =G15/D15 -> 64 | J15: =IF(F15=0,4,(E15-'Key to Columns'!$B$28)*'Key to Columns'!$B$29/('Key to Columns'!$B$29+'Key to Columns'!$B$30/F15)+'Key to Columns'!$B$28) -> 4.4445167 | K15: Used book only | L15: No | M15: No | N15: Yes | O15: No
A16: 1976 | B16: Becker, Theodore Lewis | C16: American government, past, present, future | F16: 0 | G16: 544 | H16: =D16/(G16/100) -> 0 | I16: =G16/D16 -> #DIV/0! | J16: =IF(F16=0,4,(E16-'Key to Columns'!$B$28)*'Key to Columns'!$B$29/('Key to Columns'!$B$29+'Key to Columns'!$B$30/F16)+'Key to Columns'!$B$28) -> 4 | K16: Sortition on pp. 467-469; Out of Print | L16: No | M16: No | N16: Yes | O16: No
A17: 1976 | B17: Becker, Theodore Lewis | C17: Un-vote for a New America (a guide to constitutional revolution) | F17: 0 | G17: 195 | H17: =D17/(G17/100) -> 0 | I17: =G17/D17 -> #DIV/0! | J17: =IF(F17=0,4,(E17-'Key to Columns'!$B$28)*'Key to Columns'!$B$29/('Key to Columns'!$B$29+'Key to Columns'!$B$30/F17)+'Key to Columns'!$B$28) -> 4 | K17: Sortition on p. 184; Out of Print | L17: No | M17: No | N17: Yes | O17: No
A18: 1976 | B18: Szep, Paul and Dwight Ritter | C18: UN-VOTE for a New America (1976) | F18: 0 | H18: =D18/(G18/100) -> #DIV/0! | I18: =G18/D18 -> #DIV/0! | J18: =IF(F18=0,4,(E18-'Key to Columns'!$B$28)*'Key to Columns'!$B$29/('Key to Columns'!$B$29+'Key to Columns'!$B$30/F18)+'Key to Columns'!$B$28) -> 4 | K18: Not available; 2 authors | L18: No | M18: No | N18: No | O18: Yes
A19: 1976 | B19: Wolff, Robert Paul | C19: In Defense of Anarchism with a reply to Jeffrey H. Reiman's in defense of political philosophy | D19: 50 | F19: 0 | H19: =D19/(G19/100) -> #DIV/0! | I19: =G19/D19 -> 0 | J19: =IF(F19=0,4,(E19-'Key to Columns'!$B$28)*'Key to Columns'!$B$29/('Key to Columns'!$B$29+'Key to Columns'!$B$30/F19)+'Key to Columns'!$B$28) -> 4 | L19: No | M19: No | N19: Yes | O19: No
A20: 1980 | B20: Toffler, Alvin | C20: The Third Wave | D20: 15 | E20: 4.5 | F20: 33 | G20: 560 | H20: =D20/(G20/100) -> 2.6785714 | I20: =G20/D20 -> 37.333333 | J20: =IF(F20=0,4,(E20-'Key to Columns'!$B$28)*'Key to Columns'!$B$29/('Key to Columns'!$B$29+'Key to Columns'!$B$30/F20)+'Key to Columns'!$B$28) -> 4.4597204 | K20: Sortition on pp. 434-435 | L20: No | M20: No | N20: Yes | O20: No
A21: 1985 | B21: Burnheim | C21: Is democracy possible? The alternative to electoral politics | D21: 16 | E21: 4 | F21: 4 | G21: 205 | H21: =D21/(G21/100) -> 7.804878 | I21: =G21/D21 -> 12.8125 | J21: =IF(F21=0,4,(E21-'Key to Columns'!$B$28)*'Key to Columns'!$B$29/('Key to Columns'!$B$29+'Key to Columns'!$B$30/F21)+'Key to Columns'!$B$28) -> 4.2871255 | L21: No | M21: No | N21: Yes | O21: Yes
A22: 1990 | B22: Slaton, CDL | C22: Televote: Expanding citizen participation in the quantum age | D22: 0 | F22: 0 | G22: 507 | J22: =IF(F22=0,4,(E22-'Key to Columns'!$B$28)*'Key to Columns'!$B$29/('Key to Columns'!$B$29+'Key to Columns'!$B$30/F22)+'Key to Columns'!$B$28) -> 4 | K22: Dissertation - Free PDF download | L22: No | M22: No | N22: Yes | O22: No
A23: 1990 | B23: Starr, Chester G. | C23: The birth of Athenian democracy: the Assembly in the Fifth Century B.C. | D23: 37 | E23: 5 | F23: 1 | G23: 96 | H23: =D23/(G23/100) -> 38.541667 | I23: =G23/D23 -> 2.5945946 | J23: =IF(F23=0,4,(E23-'Key to Columns'!$B$28)*'Key to Columns'!$B$29/('Key to Columns'!$B$29+'Key to Columns'!$B$30/F23)+'Key to Columns'!$B$28) -> 4.4083424 | L23: Yes | M23: No | N23: Yes | O23: No
A24: 1991 | B24: Becker, Theodore Lewis | C24: Quantum politics: applying quantum theory to political phenomena | D24: 100 | E24: 5 | F24: 3 | G24: 248 | H24: =D24/(G24/100) -> 40.322581 | I24: =G24/D24 -> 2.48 | J24: =IF(F24=0,4,(E24-'Key to Columns'!$B$28)*'Key to Columns'!$B$29/('Key to Columns'!$B$29+'Key to Columns'!$B$30/F24)+'Key to Columns'!$B$28) -> 4.4765224 | L24: No | M24: No | N24: Yes | O24: No
A25: 1991 | B25: Dahl, Robert A. | C25: Democracy and its critics | D25: 27 | E25: 4.7 | F25: 51 | G25: 397 | H25: =D25/(G25/100) -> 6.8010076 | I25: =G25/D25 -> 14.703704 | J25: =IF(F25=0,4,(E25-'Key to Columns'!$B$28)*'Key to Columns'!$B$29/('Key to Columns'!$B$29+'Key to Columns'!$B$30/F25)+'Key to Columns'!$B$28) -> 4.6268829 | L25: No | M25: No | N25: Yes | O25: No
A26: 1991 | B26: Fishkin, James | C26: Democracy and deliberation: New directions for democratic reform | D26: 7 | E26: 5 | F26: 3 | G26: 172 | H26: =D26/(G26/100) -> 4.0697674 | I26: =G26/D26 -> 24.571429 | J26: =IF(F26=0,4,(E26-'Key to Columns'!$B$28)*'Key to Columns'!$B$29/('Key to Columns'!$B$29+'Key to Columns'!$B$30/F26)+'Key to Columns'!$B$28) -> 4.4765224 | L26: No | M26: Yes | N26: Yes | O26: No
A27: 1991 | B27: Slaton, Christa D. | C27: Televote: Expanding citizen participation in the quantum age | D27: 98 | F27: 0 | G27: 240 | H27: =D27/(G27/100) -> 40.833333 | I27: =G27/D27 -> 2.4489796 | J27: =IF(F27=0,4,(E27-'Key to Columns'!$B$28)*'Key to Columns'!$B$29/('Key to Columns'!$B$29+'Key to Columns'!$B$30/F27)+'Key to Columns'!$B$28) -> 4 | L27: No | M27: No | N27: Yes | O27: No
A28: 1993 | B28: Cockshott, Paul and Allin Cottrell | C28: Toward a New Socialism (1993) | D28: 22 | E28: 4.6 | F28: 80 | G28: 240 | H28: =D28/(G28/100) -> 9.1666667 | I28: =G28/D28 -> 10.909091 | J28: =IF(F28=0,4,(E28-'Key to Columns'!$B$28)*'Key to Columns'!$B$29/('Key to Columns'!$B$29+'Key to Columns'!$B$30/F28)+'Key to Columns'!$B$28) -> 4.5645698 | K28: 2 authors | L28: No | M28: No | N28: No | O28: Yes
A29: 1993 | B29: Davies, J.K. | C29: Democracy and Classical Greece | D29: 20 | E29: 4.1 | F29: 16 | G29: 308 | H29: =D29/(G29/100) -> 6.4935065 | I29: =G29/D29 -> 15.4 | J29: =IF(F29=0,4,(E29-'Key to Columns'!$B$28)*'Key to Columns'!$B$29/('Key to Columns'!$B$29+'Key to Columns'!$B$30/F29)+'Key to Columns'!$B$28) -> 4.2263296 | K29: 1978 reprint; 2 editions | L29: Yes | M29: No | N29: Yes | O29: No
A30: 1993 | B30: Emery, Merrelyn | C30: Participative design for participative democracy | D30: 50 | F30: 0 | G30: 320 | H30: =D30/(G30/100) -> 15.625 | I30: =G30/D30 -> 6.4 | J30: =IF(F30=0,4,(E30-'Key to Columns'!$B$28)*'Key to Columns'!$B$29/('Key to Columns'!$B$29+'Key to Columns'!$B$30/F30)+'Key to Columns'!$B$28) -> 4 | L30: No | M30: No | N30: Yes | O30: No
A31: 1993 | B31: Mueller, Dennis C. | C31: The Public Choice approach to politics | D31: 10 | F31: 0 | G31: 552 | H31: =D31/(G31/100) -> 1.8115942 | I31: =G31/D31 -> 55.2 | J31: =IF(F31=0,4,(E31-'Key to Columns'!$B$28)*'Key to Columns'!$B$29/('Key to Columns'!$B$29+'Key to Columns'!$B$30/F31)+'Key to Columns'!$B$28) -> 4 | K31: EBL blog says some chapters on sortition | L31: No | M31: No | N31: Yes | O31: No
A32: 1996 | B32: Hauptmann, Emily | C32: Putting choice before democracy (1996) | D32: 34 | F32: 0 | G32: 138 | H32: =D32/(G32/100) -> 24.637681 | I32: =G32/D32 -> 4.0588235 | J32: =IF(F32=0,4,(E32-'Key to Columns'!$B$28)*'Key to Columns'!$B$29/('Key to Columns'!$B$29+'Key to Columns'!$B$30/F32)+'Key to Columns'!$B$28) -> 4 | L32: No | M32: No | N32: No | O32: Yes
A33: 1997 | B33: Manin, Bernard | C33: The Principles of Representative Government (1997) | D33: 50 | E33: 4.6 | F33: 19 | G33: 256 | H33: =D33/(G33/100) -> 19.53125 | I33: =G33/D33 -> 5.12 | J33: =IF(F33=0,4,(E33-'Key to Columns'!$B$28)*'Key to Columns'!$B$29/('Key to Columns'!$B$29+'Key to Columns'!$B$30/F33)+'Key to Columns'!$B$28) -> 4.499776 | L33: No | M33: No | N33: No | O33: Yes
A34: 1997 | B34: Time-Life Books (editor) | C34: What life was like: at the dawn of democracy: Classical Athens 525-322 BC | D34: 17 | E34: 4.9 | F34: 7 | G34: 144 | H34: =D34/(G34/100) -> 11.805556 | I34: =G34/D34 -> 8.4705882 | J34: =IF(F34=0,4,(E34-'Key to Columns'!$B$28)*'Key to Columns'!$B$29/('Key to Columns'!$B$29+'Key to Columns'!$B$30/F34)+'Key to Columns'!$B$28) -> 4.5417933 | L34: Yes | M34: No | N34: Yes | O34: No
A35: 1998 | B35: Elster | C35: Deliberative democracy | D35: 10 | E35: 4.5 | F35: 7 | G35: 296 | H35: =D35/(G35/100) -> 3.3783784 | I35: =G35/D35 -> 29.6 | J35: =IF(F35=0,4,(E35-'Key to Columns'!$B$28)*'Key to Columns'!$B$29/('Key to Columns'!$B$29+'Key to Columns'!$B$30/F35)+'Key to Columns'!$B$28) -> 4.4106811 | K35: 1 editor | L35: No | M35: Yes | N35: Yes | O35: No
A36: 1998 | B36: Kagan, Donald | C36: Pericles of Athens and the birth of democracy | D36: 14 | E36: 4.5 | F36: 71 | G36: 320 | H36: =D36/(G36/100) -> 4.375 | I36: =G36/D36 -> 22.857143 | J36: =IF(F36=0,4,(E36-'Key to Columns'!$B$28)*'Key to Columns'!$B$29/('Key to Columns'!$B$29+'Key to Columns'!$B$30/F36)+'Key to Columns'!$B$28) -> 4.4776527 | L36: Yes | M36: No | N36: Yes | O36: No
A37: 1999 | B37: Carson, Lyn | C37: Random selection in politics | D37: 69 | F37: 0 | G37: 176 | H37: =D37/(G37/100) -> 39.204545 | I37: =G37/D37 -> 2.5507246 | J37: =IF(F37=0,4,(E37-'Key to Columns'!$B$28)*'Key to Columns'!$B$29/('Key to Columns'!$B$29+'Key to Columns'!$B$30/F37)+'Key to Columns'!$B$28) -> 4 | K37: 2 authors | L37: No | M37: No | N37: Yes | O37: Yes
A38: 1999 | B38: Hansen, Mogens Herman | C38: The Athenian democracy in the Age of Demosthenes: Structure, Principles, and Ideology | D38: 19 | E38: 4 | F38: 20 | G38: 464 | H38: =D38/(G38/100) -> 4.0948276 | I38: =G38/D38 -> 24.421053 | J38: =IF(F38=0,4,(E38-'Key to Columns'!$B$28)*'Key to Columns'!$B$29/('Key to Columns'!$B$29+'Key to Columns'!$B$30/F38)+'Key to Columns'!$B$28) -> 4.1534067 | L38: Yes | M38: No | N38: Yes | O38: No
A39: 1999 | B39: Hirschman, Albert O. | C39: Crossing boundaries: selected writings | D39: 11 | E39: 4.5 | F39: 2 | G39: 112 | H39: =D39/(G39/100) -> 9.8214286 | I39: =G39/D39 -> 10.181818 | J39: =IF(F39=0,4,(E39-'Key to Columns'!$B$28)*'Key to Columns'!$B$29/('Key to Columns'!$B$29+'Key to Columns'!$B$30/F39)+'Key to Columns'!$B$28) -> 4.3833761 | L39: No | M39: No | N39: Yes | O39: No
A40: 1999 | B40: Macedo | C40: Deliberative politics: essays on democracy and disagreement | D40: 10 | E40: 3.4 | F40: 4 | G40: 304 | H40: =D40/(G40/100) -> 3.2894737 | I40: =G40/D40 -> 30.4 | J40: =IF(F40=0,4,(E40-'Key to Columns'!$B$28)*'Key to Columns'!$B$29/('Key to Columns'!$B$29+'Key to Columns'!$B$30/F40)+'Key to Columns'!$B$28) -> 4.1563763 | K40: 1 editor | L40: No | M40: Yes | N40: Yes | O40: No
...

Sheet Key to Columns
A1: Key to Columns in "Sortition Books" tab
A3: Year | B3: Year as listed on Amazon.com - earlier year for reprints, if available.
A4: Author | B4: Frequently, only the last name of first author/editor is listed.
A5: Title | B5: As listed on Amazon.com, capitalization after first word often ignored.
A6: Price | B6: Typical price for non-Kindle versions.
A7: Rating | B7: Average rating as submitted by book readers to Amazon.
A8: # Ratings | B8: Number of ratings submitted to Amazon.
A9: Pages | B9: Number of pages in book.
A10: $/100pages | B10: Price per 100 pages.
A11: Pages/$ | B11: Number of pages per $1.00 in price
A12: Adj Rating | B12: Adjusted Rating - adjusted to smooth out randomness in book ratings - See formula below.
A13: Remarks | B13: Remarks by Carl Lundgren
A14: AGD | B14: Ancient Greek Democracy
... A17: EBL | B17: Book listed at https://equalitybylot.com/literature/ (including blog comments) as of 9/20/2026 (2024 last year listed)
A19: Source: General Internet search by Carl Lundgren; queries for books on Amazon.com; queries of Google, Google Scholar, or Google Books.
A20: Books related to sortition found during August/September/October 2026 web search.
A21: Only books or scholarly dissertations are included; journal articles, opinion pieces, or web pages are not included.
A22: October 13, 2026 by Carl Lundgren
A24: Adj Rating | B24: = Adjusted Rating, to smooth out randomness in book ratings, in accordance with formula below.
A25: If # ratings > 0, then Adj Rating = (A-C)*D/(D+E/B)+C, where:
A26: A | B26: Average Rating of Book as reported by Amazon.com book readers.
A27: B | B27: Number of Amazon ratings reported for book.
A28: C | B28: 4.3671284 | C28: Average Rating per Rater
A29: D | B29: 0.069042017 | C29: Variance of average rating per book for all books with # ratings >=10.
A30: E | B30: 0.99115 | C30: Average variance of book ratings for 4 books with average rating of 4.3 or 4.4.
A31: If # ratings = 0, then Adj Rating is set to 4.00, which is below all other Adj Ratings.
