Workbook

Sheet Sortition Books
A1: Year | B1: Author | C1: Title | D1: Price | E1: Rating | F1: # Ratings | G1: Pages | H1: $/100pages | I1: Pages/$ | J1: Adj Rating | K1: Remarks | L1: AGD | M1: DD | N1: CL | O1: EBL
A2: -425 | B2: Pseudo-Xenophon | C2: Constitution of the Athenians (425 BC; 2022 edition) | D2: 14 | F2: 0 | G2: 49 | H2: =D2/(G2/100) -> 28.571429 | I2: =G2/D2 -> 3.5 | J2: =IF(F2=0,4,(E2-'Key to Columns'!$B$28)*'Key to Columns'!$B$29/('Key to Columns'!$B$29+'Key to Columns'!$B$30/F2)+'Key to Columns'!$B$28) -> 4 | K2: 3.6 on Goodreads | L2: Yes | M2: No | N2: No | O2: Yes
A3: -360 | B3: Plato | C3: Laws (360 BC; 2020 edition) | D3: 13 | E3: 4.2 | F3: 374 | G3: 246 | H3: =D3/(G3/100) -> 5.2845528 | I3: =G3/D3 -> 18.923077 | J3: =IF(F3=0,4,(E3-'Key to Columns'!$B$28)*'Key to Columns'!$B$29/('Key to Columns'!$B$29+'Key to Columns'!$B$30/F3)+'Key to Columns'!$B$28) -> 4.206178 | L3: Yes | M3: No | N3: No | O3: Yes
A4: -350 | B4: Aristotle | C4: Constitution of the Athenians (350 BC; 2015 edition) | D4: 6 | F4: 0 | G4: 64 | H4: =D4/(G4/100) -> 9.375 | I4: =G4/D4 -> 10.666667 | J4: =IF(F4=0,4,(E4-'Key to Columns'!$B$28)*'Key to Columns'!$B$29/('Key to Columns'!$B$29+'Key to Columns'!$B$30/F4)+'Key to Columns'!$B$28) -> 4 | K4: 3.8 on Goodreads | L4: Yes | M4: No | N4: No | O4: Yes
A5: -350 | B5: Aristotle | C5: Politics (350 BC; 1985 edition) | D5: 7 | E5: 4.4 | F5: 18 | G5: 290 | H5: =D5/(G5/100) -> 2.4137931 | I5: =G5/D5 -> 41.428571 | J5: =IF(F5=0,4,(E5-'Key to Columns'!$B$28)*'Key to Columns'!$B$29/('Key to Columns'!$B$29+'Key to Columns'!$B$30/F5)+'Key to Columns'!$B$28) -> 4.3854154 | L5: Yes | M5: No | N5: No | O5: Yes
A6: 1627 | B6: Gataker, Thomas (ed. Conall Boyle) | C6: The Nature and Use of Lotteries, (1627, 2008) | D6: 31 | E6: 5 | F6: 1 | G6: 231 | H6: =D6/(G6/100) -> 13.419913 | I6: =G6/D6 -> 7.4516129 | J6: =IF(F6=0,4,(E6-'Key to Columns'!$B$28)*'Key to Columns'!$B$29/('Key to Columns'!$B$29+'Key to Columns'!$B$30/F6)+'Key to Columns'!$B$28) -> 4.4083424 | L6: No | M6: No | N6: No | O6: Yes
A7: 1891 | B7: Headlam, James Wycliffe | C7: Election by lot at Athens (2012 edition) | D7: 11 | F7: 0 | G7: 246 | H7: =D7/(G7/100) -> 4.4715447 | I7: =G7/D7 -> 22.363636 | J7: =IF(F7=0,4,(E7-'Key to Columns'!$B$28)*'Key to Columns'!$B$29/('Key to Columns'!$B$29+'Key to Columns'!$B$30/F7)+'Key to Columns'!$B$28) -> 4 | L7: Yes | M7: No | N7: No | O7: Yes
A8: 1896 | B8: Greenidge, A. H. J. | C8: A Handbook of Greek Constitutional History (2009 edition) | D8: 28 | F8: 0 | G8: 298 | H8: =D8/(G8/100) -> 9.3959732 | I8: =G8/D8 -> 10.642857 | J8: =IF(F8=0,4,(E8-'Key to Columns'!$B$28)*'Key to Columns'!$B$29/('Key to Columns'!$B$29+'Key to Columns'!$B$30/F8)+'Key to Columns'!$B$28) -> 4 | L8: Yes | M8: No | N8: No | O8: Yes
A9: 1913 | B9: Lowell , Abbott Lawrence | C9: Public Opinion and Popular Government (2009 edition) | D9: 27 | E9: 4 | F9: 2 | G9: 446 | H9: =D9/(G9/100) -> 6.0538117 | I9: =G9/D9 -> 16.518519 | J9: =IF(F9=0,4,(E9-'Key to Columns'!$B$28)*'Key to Columns'!$B$29/('Key to Columns'!$B$29+'Key to Columns'!$B$30/F9)+'Key to Columns'!$B$28) -> 4.3222355 | L9: No | M9: No | N9: No | O9: Yes
A10: 1936 | B10: Anonymous | C10: Pour le Tirage au Sort de la Chambre des Députés (For the Random Selection of the Chamber of Deputies) (1936) | F10: 0 | G10: 166 | H10: =D10/(G10/100) -> 0 | I10: =G10/D10 -> #DIV/0! | J10: =IF(F10=0,4,(E10-'Key to Columns'!$B$28)*'Key to Columns'!$B$29/('Key to Columns'!$B$29+'Key to Columns'!$B$30/F10)+'Key to Columns'!$B$28) -> 4 | K10: French only; not available | L10: No | M10: No | N10: No | O10: Yes
A11: 1967 | B11: Pitkin, Hanna Fenichel | C11: The concept of representation (1967) | D11: 32 | E11: 4.6 | F11: 26 | G11: 332 | H11: =D11/(G11/100) -> 9.6385542 | I11: =G11/D11 -> 10.375 | J11: =IF(F11=0,4,(E11-'Key to Columns'!$B$28)*'Key to Columns'!$B$29/('Key to Columns'!$B$29+'Key to Columns'!$B$30/F11)+'Key to Columns'!$B$28) -> 4.5171606 | L11: No | M11: No | N11: No | O11: Yes
A12: 1969 | B12: Pitkin, Hanna Fenichel | C12: Representation | F12: 0 | H12: =D12/(G12/100) -> #DIV/0! | I12: =G12/D12 -> #DIV/0! | J12: =IF(F12=0,4,(E12-'Key to Columns'!$B$28)*'Key to Columns'!$B$29/('Key to Columns'!$B$29+'Key to Columns'!$B$30/F12)+'Key to Columns'!$B$28) -> 4 | K12: Out of Print | L12: No | M12: No | N12: Yes | O12: No
A13: 1970 | B13: Dahl, Robert A. | C13: After the Revolution? (1990 edition) | D13: 25 | E13: 5 | F13: 2 | G13: 168 | H13: =D13/(G13/100) -> 14.880952 | I13: =G13/D13 -> 6.72 | J13: =IF(F13=0,4,(E13-'Key to Columns'!$B$28)*'Key to Columns'!$B$29/('Key to Columns'!$B$29+'Key to Columns'!$B$30/F13)+'Key to Columns'!$B$28) -> 4.4445167 | K13: Sortition on pp. 44-56, 79-80, 149-153. | L13: No | M13: No | N13: Yes | O13: Yes
A14: 1970 | B14: Wolff, Robert Paul | C14: In Defense of Anarchism (1998 edition) | D14: 22 | E14: 4.2 | F14: 38 | G14: 120 | H14: =D14/(G14/100) -> 18.333333 | I14: =G14/D14 -> 5.4545455 | J14: =IF(F14=0,4,(E14-'Key to Columns'!$B$28)*'Key to Columns'!$B$29/('Key to Columns'!$B$29+'Key to Columns'!$B$30/F14)+'Key to Columns'!$B$28) -> 4.245826 | L14: No | M14: No | N14: No | O14: Yes
A15: 1972 | B15: Rieman, Jeffrey H. | C15: In defense of political philosophy;: a reply to Robert Paul Wolff's in defense of anarchism | D15: 4 | E15: 5 | F15: 2 | G15: 256 | H15: =D15/(G15/100) -> 1.5625 | I15: =G15/D15 -> 64 | J15: =IF(F15=0,4,(E15-'Key to Columns'!$B$28)*'Key to Columns'!$B$29/('Key to Columns'!$B$29+'Key to Columns'!$B$30/F15)+'Key to Columns'!$B$28) -> 4.4445167 | K15: Used book only | L15: No | M15: No | N15: Yes | O15: No
A16: 1976 | B16: Becker, Theodore Lewis | C16: American government, past, present, future | F16: 0 | G16: 544 | H16: =D16/(G16/100) -> 0 | I16: =G16/D16 -> #DIV/0! | J16: =IF(F16=0,4,(E16-'Key to Columns'!$B$28)*'Key to Columns'!$B$29/('Key to Columns'!$B$29+'Key to Columns'!$B$30/F16)+'Key to Columns'!$B$28) -> 4 | K16: Sortition on pp. 467-469; Out of Print | L16: No | M16: No | N16: Yes | O16: No
A17: 1976 | B17: Becker, Theodore Lewis | C17: Un-vote for a New America (a guide to constitutional revolution) | F17: 0 | G17: 195 | H17: =D17/(G17/100) -> 0 | I17: =G17/D17 -> #DIV/0! | J17: =IF(F17=0,4,(E17-'Key to Columns'!$B$28)*'Key to Columns'!$B$29/('Key to Columns'!$B$29+'Key to Columns'!$B$30/F17)+'Key to Columns'!$B$28) -> 4 | K17: Sortition on p. 184; Out of Print | L17: No | M17: No | N17: Yes | O17: No
A18: 1976 | B18: Szep, Paul and Dwight Ritter | C18: UN-VOTE for a New America (1976) | F18: 0 | H18: =D18/(G18/100) -> #DIV/0! | I18: =G18/D18 -> #DIV/0! | J18: =IF(F18=0,4,(E18-'Key to Columns'!$B$28)*'Key to Columns'!$B$29/('Key to Columns'!$B$29+'Key to Columns'!$B$30/F18)+'Key to Columns'!$B$28) -> 4 | K18: Not available; 2 authors | L18: No | M18: No | N18: No | O18: Yes
A19: 1976 | B19: Wolff, Robert Paul | C19: In Defense of Anarchism with a reply to Jeffrey H. Reiman's in defense of political philosophy | D19: 50 | F19: 0 | H19: =D19/(G19/100) -> #DIV/0! | I19: =G19/D19 -> 0 | J19: =IF(F19=0,4,(E19-'Key to Columns'!$B$28)*'Key to Columns'!$B$29/('Key to Columns'!$B$29+'Key to Columns'!$B$30/F19)+'Key to Columns'!$B$28) -> 4 | L19: No | M19: No | N19: Yes | O19: No
A20: 1980 | B20: Toffler, Alvin | C20: The Third Wave | D20: 15 | E20: 4.5 | F20: 33 | G20: 560 | H20: =D20/(G20/100) -> 2.6785714 | I20: =G20/D20 -> 37.333333 | J20: =IF(F20=0,4,(E20-'Key to Columns'!$B$28)*'Key to Columns'!$B$29/('Key to Columns'!$B$29+'Key to Columns'!$B$30/F20)+'Key to Columns'!$B$28) -> 4.4597204 | K20: Sortition on pp. 434-435 | L20: No | M20: No | N20: Yes | O20: No
A21: 1985 | B21: Burnheim | C21: Is democracy possible? The alternative to electoral politics | D21: 16 | E21: 4 | F21: 4 | G21: 205 | H21: =D21/(G21/100) -> 7.804878 | I21: =G21/D21 -> 12.8125 | J21: =IF(F21=0,4,(E21-'Key to Columns'!$B$28)*'Key to Columns'!$B$29/('Key to Columns'!$B$29+'Key to Columns'!$B$30/F21)+'Key to Columns'!$B$28) -> 4.2871255 | L21: No | M21: No | N21: Yes | O21: Yes
A22: 1990 | B22: Slaton, CDL | C22: Televote: Expanding citizen participation in the quantum age | D22: 0 | F22: 0 | G22: 507 | J22: =IF(F22=0,4,(E22-'Key to Columns'!$B$28)*'Key to Columns'!$B$29/('Key to Columns'!$B$29+'Key to Columns'!$B$30/F22)+'Key to Columns'!$B$28) -> 4 | K22: Dissertation - Free PDF download | L22: No | M22: No | N22: Yes | O22: No
A23: 1990 | B23: Starr, Chester G. | C23: The birth of Athenian democracy: the Assembly in the Fifth Century B.C. | D23: 37 | E23: 5 | F23: 1 | G23: 96 | H23: =D23/(G23/100) -> 38.541667 | I23: =G23/D23 -> 2.5945946 | J23: =IF(F23=0,4,(E23-'Key to Columns'!$B$28)*'Key to Columns'!$B$29/('Key to Columns'!$B$29+'Key to Columns'!$B$30/F23)+'Key to Columns'!$B$28) -> 4.4083424 | L23: Yes | M23: No | N23: Yes | O23: No
A24: 1991 | B24: Becker, Theodore Lewis | C24: Quantum politics: applying quantum theory to political phenomena | D24: 100 | E24: 5 | F24: 3 | G24: 248 | H24: =D24/(G24/100) -> 40.322581 | I24: =G24/D24 -> 2.48 | J24: =IF(F24=0,4,(E24-'Key to Columns'!$B$28)*'Key to Columns'!$B$29/('Key to Columns'!$B$29+'Key to Columns'!$B$30/F24)+'Key to Columns'!$B$28) -> 4.4765224 | L24: No | M24: No | N24: Yes | O24: No
A25: 1991 | B25: Dahl, Robert A. | C25: Democracy and its critics | D25: 27 | E25: 4.7 | F25: 51 | G25: 397 | H25: =D25/(G25/100) -> 6.8010076 | I25: =G25/D25 -> 14.703704 | J25: =IF(F25=0,4,(E25-'Key to Columns'!$B$28)*'Key to Columns'!$B$29/('Key to Columns'!$B$29+'Key to Columns'!$B$30/F25)+'Key to Columns'!$B$28) -> 4.6268829 | L25: No | M25: No | N25: Yes | O25: No
A26: 1991 | B26: Fishkin, James | C26: Democracy and deliberation: New directions for democratic reform | D26: 7 | E26: 5 | F26: 3 | G26: 172 | H26: =D26/(G26/100) -> 4.0697674 | I26: =G26/D26 -> 24.571429 | J26: =IF(F26=0,4,(E26-'Key to Columns'!$B$28)*'Key to Columns'!$B$29/('Key to Columns'!$B$29+'Key to Columns'!$B$30/F26)+'Key to Columns'!$B$28) -> 4.4765224 | L26: No | M26: Yes | N26: Yes | O26: No
A27: 1991 | B27: Slaton, Christa D. | C27: Televote: Expanding citizen participation in the quantum age | D27: 98 | F27: 0 | G27: 240 | H27: =D27/(G27/100) -> 40.833333 | I27: =G27/D27 -> 2.4489796 | J27: =IF(F27=0,4,(E27-'Key to Columns'!$B$28)*'Key to Columns'!$B$29/('Key to Columns'!$B$29+'Key to Columns'!$B$30/F27)+'Key to Columns'!$B$28) -> 4 | L27: No | M27: No | N27: Yes | O27: No
A28: 1993 | B28: Cockshott, Paul and Allin Cottrell | C28: Toward a New Socialism (1993) | D28: 22 | E28: 4.6 | F28: 80 | G28: 240 | H28: =D28/(G28/100) -> 9.1666667 | I28: =G28/D28 -> 10.909091 | J28: =IF(F28=0,4,(E28-'Key to Columns'!$B$28)*'Key to Columns'!$B$29/('Key to Columns'!$B$29+'Key to Columns'!$B$30/F28)+'Key to Columns'!$B$28) -> 4.5645698 | K28: 2 authors | L28: No | M28: No | N28: No | O28: Yes
A29: 1993 | B29: Davies, J.K. | C29: Democracy and Classical Greece | D29: 20 | E29: 4.1 | F29: 16 | G29: 308 | H29: =D29/(G29/100) -> 6.4935065 | I29: =G29/D29 -> 15.4 | J29: =IF(F29=0,4,(E29-'Key to Columns'!$B$28)*'Key to Columns'!$B$29/('Key to Columns'!$B$29+'Key to Columns'!$B$30/F29)+'Key to Columns'!$B$28) -> 4.2263296 | K29: 1978 reprint; 2 editions | L29: Yes | M29: No | N29: Yes | O29: No
A30: 1993 | B30: Emery, Merrelyn | C30: Participative design for participative democracy | D30: 50 | F30: 0 | G30: 320 | H30: =D30/(G30/100) -> 15.625 | I30: =G30/D30 -> 6.4 | J30: =IF(F30=0,4,(E30-'Key to Columns'!$B$28)*'Key to Columns'!$B$29/('Key to Columns'!$B$29+'Key to Columns'!$B$30/F30)+'Key to Columns'!$B$28) -> 4 | L30: No | M30: No | N30: Yes | O30: No
A31: 1993 | B31: Mueller, Dennis C. | C31: The Public Choice approach to politics | D31: 10 | F31: 0 | G31: 552 | H31: =D31/(G31/100) -> 1.8115942 | I31: =G31/D31 -> 55.2 | J31: =IF(F31=0,4,(E31-'Key to Columns'!$B$28)*'Key to Columns'!$B$29/('Key to Columns'!$B$29+'Key to Columns'!$B$30/F31)+'Key to Columns'!$B$28) -> 4 | K31: EBL blog says some chapters on sortition | L31: No | M31: No | N31: Yes | O31: No
A32: 1996 | B32: Hauptmann, Emily | C32: Putting choice before democracy (1996) | D32: 34 | F32: 0 | G32: 138 | H32: =D32/(G32/100) -> 24.637681 | I32: =G32/D32 -> 4.0588235 | J32: =IF(F32=0,4,(E32-'Key to Columns'!$B$28)*'Key to Columns'!$B$29/('Key to Columns'!$B$29+'Key to Columns'!$B$30/F32)+'Key to Columns'!$B$28) -> 4 | L32: No | M32: No | N32: No | O32: Yes
A33: 1997 | B33: Manin, Bernard | C33: The Principles of Representative Government (1997) | D33: 50 | E33: 4.6 | F33: 19 | G33: 256 | H33: =D33/(G33/100) -> 19.53125 | I33: =G33/D33 -> 5.12 | J33: =IF(F33=0,4,(E33-'Key to Columns'!$B$28)*'Key to Columns'!$B$29/('Key to Columns'!$B$29+'Key to Columns'!$B$30/F33)+'Key to Columns'!$B$28) -> 4.499776 | L33: No | M33: No | N33: No | O33: Yes
A34: 1997 | B34: Time-Life Books (editor) | C34: What life was like: at the dawn of democracy: Classical Athens 525-322 BC | D34: 17 | E34: 4.9 | F34: 7 | G34: 144 | H34: =D34/(G34/100) -> 11.805556 | I34: =G34/D34 -> 8.4705882 | J34: =IF(F34=0,4,(E34-'Key to Columns'!$B$28)*'Key to Columns'!$B$29/('Key to Columns'!$B$29+'Key to Columns'!$B$30/F34)+'Key to Columns'!$B$28) -> 4.5417933 | L34: Yes | M34: No | N34: Yes | O34: No
A35: 1998 | B35: Elster | C35: Deliberative democracy | D35: 10 | E35: 4.5 | F35: 7 | G35: 296 | H35: =D35/(G35/100) -> 3.3783784 | I35: =G35/D35 -> 29.6 | J35: =IF(F35=0,4,(E35-'Key to Columns'!$B$28)*'Key to Columns'!$B$29/('Key to Columns'!$B$29+'Key to Columns'!$B$30/F35)+'Key to Columns'!$B$28) -> 4.4106811 | K35: 1 editor | L35: No | M35: Yes | N35: Yes | O35: No
A36: 1998 | B36: Kagan, Donald | C36: Pericles of Athens and the birth of democracy | D36: 14 | E36: 4.5 | F36: 71 | G36: 320 | H36: =D36/(G36/100) -> 4.375 | I36: =G36/D36 -> 22.857143 | J36: =IF(F36=0,4,(E36-'Key to Columns'!$B$28)*'Key to Columns'!$B$29/('Key to Columns'!$B$29+'Key to Columns'!$B$30/F36)+'Key to Columns'!$B$28) -> 4.4776527 | L36: Yes | M36: No | N36: Yes | O36: No
A37: 1999 | B37: Carson, Lyn | C37: Random selection in politics | D37: 69 | F37: 0 | G37: 176 | H37: =D37/(G37/100) -> 39.204545 | I37: =G37/D37 -> 2.5507246 | J37: =IF(F37=0,4,(E37-'Key to Columns'!$B$28)*'Key to Columns'!$B$29/('Key to Columns'!$B$29+'Key to Columns'!$B$30/F37)+'Key to Columns'!$B$28) -> 4 | K37: 2 authors | L37: No | M37: No | N37: Yes | O37: Yes
A38: 1999 | B38: Hansen, Mogens Herman | C38: The Athenian democracy in the Age of Demosthenes: Structure, Principles, and Ideology | D38: 19 | E38: 4 | F38: 20 | G38: 464 | H38: =D38/(G38/100) -> 4.0948276 | I38: =G38/D38 -> 24.421053 | J38: =IF(F38=0,4,(E38-'Key to Columns'!$B$28)*'Key to Columns'!$B$29/('Key to Columns'!$B$29+'Key to Columns'!$B$30/F38)+'Key to Columns'!$B$28) -> 4.1534067 | L38: Yes | M38: No | N38: Yes | O38: No
A39: 1999 | B39: Hirschman, Albert O. | C39: Crossing boundaries: selected writings | D39: 11 | E39: 4.5 | F39: 2 | G39: 112 | H39: =D39/(G39/100) -> 9.8214286 | I39: =G39/D39 -> 10.181818 | J39: =IF(F39=0,4,(E39-'Key to Columns'!$B$28)*'Key to Columns'!$B$29/('Key to Columns'!$B$29+'Key to Columns'!$B$30/F39)+'Key to Columns'!$B$28) -> 4.3833761 | L39: No | M39: No | N39: Yes | O39: No
A40: 1999 | B40: Macedo | C40: Deliberative politics: essays on democracy and disagreement | D40: 10 | E40: 3.4 | F40: 4 | G40: 304 | H40: =D40/(G40/100) -> 3.2894737 | I40: =G40/D40 -> 30.4 | J40: =IF(F40=0,4,(E40-'Key to Columns'!$B$28)*'Key to Columns'!$B$29/('Key to Columns'!$B$29+'Key to Columns'!$B$30/F40)+'Key to Columns'!$B$28) -> 4.1563763 | K40: 1 editor | L40: No | M40: Yes | N40: Yes | O40: No
A41: 2000 | B41: Dryzek | C41: Deliberative democracy and beyond: liberals, critics, contestations | D41: 11 | E41: 4.8 | F41: 6 | G41: 206 | H41: =D41/(G41/100) -> 5.3398058 | I41: =G41/D41 -> 18.727273 | J41: =IF(F41=0,4,(E41-'Key to Columns'!$B$28)*'Key to Columns'!$B$29/('Key to Columns'!$B$29+'Key to Columns'!$B$30/F41)+'Key to Columns'!$B$28) -> 4.4947203 | L41: No | M41: Yes | N41: Yes | O41: No
A42: 2000 | B42: Gastil | C42: By popular demand: revitalizing representative democracy through Deliberative elections | D42: 18 | E42: 5 | F42: 2 | G42: 275 | H42: =D42/(G42/100) -> 6.5454545 | I42: =G42/D42 -> 15.277778 | J42: =IF(F42=0,4,(E42-'Key to Columns'!$B$28)*'Key to Columns'!$B$29/('Key to Columns'!$B$29+'Key to Columns'!$B$30/F42)+'Key to Columns'!$B$28) -> 4.4445167 | L42: No | M42: Yes | N42: Yes | O42: No
A43: 2000 | B43: Munn, Mark H. | C43: The School of History: Athens in the Age of Socrates | D43: 18 | E43: 4.4 | F43: 18 | G43: 537 | H43: =D43/(G43/100) -> 3.3519553 | I43: =G43/D43 -> 29.833333 | J43: =IF(F43=0,4,(E43-'Key to Columns'!$B$28)*'Key to Columns'!$B$29/('Key to Columns'!$B$29+'Key to Columns'!$B$30/F43)+'Key to Columns'!$B$28) -> 4.3854154 | L43: Yes | M43: No | N43: Yes | O43: No
A44: 2001 | B44: Longstaff, Bill | C44: Democracy undone: the practice and the promise of self-governance in Canada | D44: 50 | F44: 0 | G44: 291 | H44: =D44/(G44/100) -> 17.182131 | I44: =G44/D44 -> 5.82 | J44: =IF(F44=0,4,(E44-'Key to Columns'!$B$28)*'Key to Columns'!$B$29/('Key to Columns'!$B$29+'Key to Columns'!$B$30/F44)+'Key to Columns'!$B$28) -> 4 | L44: No | M44: No | N44: Yes | O44: No
A45: 2003 | B45: Fishkin, James S. and Peter Laslett | C45: Debating Deliberative democracy | D45: 61 | E45: 5 | F45: 1 | G45: 248 | H45: =D45/(G45/100) -> 24.596774 | I45: =G45/D45 -> 4.0655738 | J45: =IF(F45=0,4,(E45-'Key to Columns'!$B$28)*'Key to Columns'!$B$29/('Key to Columns'!$B$29+'Key to Columns'!$B$30/F45)+'Key to Columns'!$B$28) -> 4.4083424 | K45: 2 editors | L45: No | M45: Yes | N45: Yes | O45: No
A46: 2004 | B46: Gutmann, Amy and Dennis F. Thompson | C46: Why deliberative democracy? | D46: 20 | E46: 3.7 | F46: 11 | G46: 232 | H46: =D46/(G46/100) -> 8.6206897 | I46: =G46/D46 -> 11.6 | J46: =IF(F46=0,4,(E46-'Key to Columns'!$B$28)*'Key to Columns'!$B$29/('Key to Columns'!$B$29+'Key to Columns'!$B$30/F46)+'Key to Columns'!$B$28) -> 4.0777103 | K46: 2 authors | L46: No | M46: Yes | N46: Yes | O46: No
A47: 2004 | B47: Lang, Mabel | C47: The Athenian citizen: democracy in the Athenian agora | D47: 7 | E47: 5 | F47: 4 | G47: 32 | H47: =D47/(G47/100) -> 21.875 | I47: =G47/D47 -> 4.5714286 | J47: =IF(F47=0,4,(E47-'Key to Columns'!$B$28)*'Key to Columns'!$B$29/('Key to Columns'!$B$29+'Key to Columns'!$B$30/F47)+'Key to Columns'!$B$28) -> 4.5050408 | K47: 2 authors | L47: Yes | M47: No | N47: Yes | O47: No
A48: 2004 | B48: Leib | C48: Deliberative democracy in America: a proposal for a popular branch of government | D48: 17 | E48: 5 | F48: 2 | G48: 168 | H48: =D48/(G48/100) -> 10.119048 | I48: =G48/D48 -> 9.8823529 | J48: =IF(F48=0,4,(E48-'Key to Columns'!$B$28)*'Key to Columns'!$B$29/('Key to Columns'!$B$29+'Key to Columns'!$B$30/F48)+'Key to Columns'!$B$28) -> 4.4445167 | L48: No | M48: Yes | N48: Yes | O48: Yes
A49: 2004 | B49: Sutherland, Keith | C49: The party's over: blueprint for a very English revolution | D49: 44 | E49: 4 | F49: 1 | G49: 128 | H49: =D49/(G49/100) -> 34.375 | I49: =G49/D49 -> 2.9090909 | J49: =IF(F49=0,4,(E49-'Key to Columns'!$B$28)*'Key to Columns'!$B$29/('Key to Columns'!$B$29+'Key to Columns'!$B$30/F49)+'Key to Columns'!$B$28) -> 4.3432202 | L49: No | M49: No | N49: Yes | O49: Yes
A50: 2005 | B50: Dahl, Robert A. | C50: Who Governs? Democracy and power in the American city | D50: 28 | E50: 4.4 | F50: 48 | G50: 384 | H50: =D50/(G50/100) -> 7.2916667 | I50: =G50/D50 -> 13.714286 | J50: =IF(F50=0,4,(E50-'Key to Columns'!$B$28)*'Key to Columns'!$B$29/('Key to Columns'!$B$29+'Key to Columns'!$B$30/F50)+'Key to Columns'!$B$28) -> 4.3924322 | L50: No | M50: No | N50: Yes | O50: No
A51: 2005 | B51: Forsdyke, Sara | C51: Exile, Ostracism, and Democracy: The Politics of Expulsion in Ancient Greece | D51: 70 | E51: 4.5 | F51: 2 | G51: 344 | H51: =D51/(G51/100) -> 20.348837 | I51: =G51/D51 -> 4.9142857 | J51: =IF(F51=0,4,(E51-'Key to Columns'!$B$28)*'Key to Columns'!$B$29/('Key to Columns'!$B$29+'Key to Columns'!$B$30/F51)+'Key to Columns'!$B$28) -> 4.3833761 | L51: Yes | M51: No | N51: Yes | O51: No
A52: 2005 | B52: Gastil | C52: The deliberative democracy handbook: strategies for effective civic engagement in the twenty-first century | D52: 10 | E52: 3.8 | F52: 8 | G52: 338 | H52: =D52/(G52/100) -> 2.9585799 | I52: =G52/D52 -> 33.8 | J52: =IF(F52=0,4,(E52-'Key to Columns'!$B$28)*'Key to Columns'!$B$29/('Key to Columns'!$B$29+'Key to Columns'!$B$30/F52)+'Key to Columns'!$B$28) -> 4.1641816 | K52: 2 editors | L52: No | M52: Yes | N52: Yes | O52: No
A53: 2005 | B53: Goodwin, Barbara | C53: Justice by lottery (revised) | D53: 35 | F53: 0 | G53: 250 | H53: =D53/(G53/100) -> 14 | I53: =G53/D53 -> 7.1428571 | J53: =IF(F53=0,4,(E53-'Key to Columns'!$B$28)*'Key to Columns'!$B$29/('Key to Columns'!$B$29+'Key to Columns'!$B$30/F53)+'Key to Columns'!$B$28) -> 4 | L53: No | M53: No | N53: Yes | O53: Yes
A54: 2005 | B54: Steiner, Ju | C54: Deliberative politics in action: analyzing parliamentary discourse | D54: 12 | E54: 5 | F54: 1 | G54: 208 | H54: =D54/(G54/100) -> 5.7692308 | I54: =G54/D54 -> 17.333333 | J54: =IF(F54=0,4,(E54-'Key to Columns'!$B$28)*'Key to Columns'!$B$29/('Key to Columns'!$B$29+'Key to Columns'!$B$30/F54)+'Key to Columns'!$B$28) -> 4.4083424 | L54: No | M54: Yes | N54: Yes | O54: No
A55: 2006 | B55: Dator, Jim | C55: Fairness, Globalization, and Public Institutions: East Asia and Beyond | D55: 0 | F55: 0 | G55: 416 | H55: =D55/(G55/100) -> 0 | I55: =G55/D55 -> #DIV/0! | J55: =IF(F55=0,4,(E55-'Key to Columns'!$B$28)*'Key to Columns'!$B$29/('Key to Columns'!$B$29+'Key to Columns'!$B$30/F55)+'Key to Columns'!$B$28) -> 4 | K55: PDF free online - 3 authors pp. 198-209 | L55: No | M55: No | N55: Yes | O55: No
A56: 2006 | B56: Diamond, Larry | C56: Electoral Systems and democracy | D56: 15 | E56: 5 | F56: 4 | G56: 272 | H56: =D56/(G56/100) -> 5.5147059 | I56: =G56/D56 -> 18.133333 | J56: =IF(F56=0,4,(E56-'Key to Columns'!$B$28)*'Key to Columns'!$B$29/('Key to Columns'!$B$29+'Key to Columns'!$B$30/F56)+'Key to Columns'!$B$28) -> 4.5050408 | K56: 2 editors | L56: No | M56: No | N56: Yes | O56: No
A57: 2006 | B57: Mutz | C57: Hearing the other side: deliberative and participatory democracy | D57: 7 | E57: 4.4 | F57: 25 | G57: 184 | H57: =D57/(G57/100) -> 3.8043478 | I57: =G57/D57 -> 26.285714 | J57: =IF(F57=0,4,(E57-'Key to Columns'!$B$28)*'Key to Columns'!$B$29/('Key to Columns'!$B$29+'Key to Columns'!$B$30/F57)+'Key to Columns'!$B$28) -> 4.3880095 | L57: No | M57: Yes | N57: Yes | O57: No
A58: 2006 | B58: O’Leary, Kevin | C58: Saving Democracy: a Plan for Real Representation in America (2006) | D58: 28 | E58: 5 | F58: 2 | G58: 304 | H58: =D58/(G58/100) -> 9.2105263 | I58: =G58/D58 -> 10.857143 | J58: =IF(F58=0,4,(E58-'Key to Columns'!$B$28)*'Key to Columns'!$B$29/('Key to Columns'!$B$29+'Key to Columns'!$B$30/F58)+'Key to Columns'!$B$28) -> 4.4445167 | L58: No | M58: No | N58: No | O58: Yes
A59: 2006 | B59: O'Flynn | C59: Deliberative democracy and divided societies | D59: 30 | F59: 0 | G59: 181 | H59: =D59/(G59/100) -> 16.574586 | I59: =G59/D59 -> 6.0333333 | J59: =IF(F59=0,4,(E59-'Key to Columns'!$B$28)*'Key to Columns'!$B$29/('Key to Columns'!$B$29+'Key to Columns'!$B$30/F59)+'Key to Columns'!$B$28) -> 4 | L59: No | M59: Yes | N59: Yes | O59: No
A60: 2006 | B60: Woodruff, Paul | C60: First democracy: the challenge of an ancient idea | D60: 19 | E60: 4.9 | F60: 21 | G60: 304 | H60: =D60/(G60/100) -> 6.25 | I60: =G60/D60 -> 16 | J60: =IF(F60=0,4,(E60-'Key to Columns'!$B$28)*'Key to Columns'!$B$29/('Key to Columns'!$B$29+'Key to Columns'!$B$30/F60)+'Key to Columns'!$B$28) -> 4.6836343 | L60: Yes | M60: No | N60: Yes | O60: No
A61: 2007 | B61: Herath | C61: Real power to the people: a novel approach to electoral reform in British Columbia | D61: 68 | F61: 0 | G61: 244 | H61: =D61/(G61/100) -> 27.868852 | I61: =G61/D61 -> 3.5882353 | J61: =IF(F61=0,4,(E61-'Key to Columns'!$B$28)*'Key to Columns'!$B$29/('Key to Columns'!$B$29+'Key to Columns'!$B$30/F61)+'Key to Columns'!$B$28) -> 4 | L61: No | M61: No | N61: Yes | O61: No
A62: 2007 | B62: Samons, Loren J. J. II | C62: What's wrong with democracy?: from Athenian practice to American worship | D62: 28 | E62: 3.9 | F62: 7 | G62: 328 | H62: =D62/(G62/100) -> 8.5365854 | I62: =G62/D62 -> 11.714286 | J62: =IF(F62=0,4,(E62-'Key to Columns'!$B$28)*'Key to Columns'!$B$29/('Key to Columns'!$B$29+'Key to Columns'!$B$30/F62)+'Key to Columns'!$B$28) -> 4.2140128 | L62: Yes | M62: No | N62: Yes | O62: No
A63: 2007 | B63: Zurn | C63: Deliberative democracy and the institutions of judicial review | D63: 30 | E63: 5 | F63: 1 | G63: 376 | H63: =D63/(G63/100) -> 7.9787234 | I63: =G63/D63 -> 12.533333 | J63: =IF(F63=0,4,(E63-'Key to Columns'!$B$28)*'Key to Columns'!$B$29/('Key to Columns'!$B$29+'Key to Columns'!$B$30/F63)+'Key to Columns'!$B$28) -> 4.4083424 | L63: No | M63: Yes | N63: Yes | O63: No
A64: 2008 | B64: Barnett, Anthony | C64: The Athenian option: radical reform for the House of Lords | D64: 21 | E64: 5 | F64: 3 | G64: 112 | H64: =D64/(G64/100) -> 18.75 | I64: =G64/D64 -> 5.3333333 | J64: =IF(F64=0,4,(E64-'Key to Columns'!$B$28)*'Key to Columns'!$B$29/('Key to Columns'!$B$29+'Key to Columns'!$B$30/F64)+'Key to Columns'!$B$28) -> 4.4765224 | K64: 2 authors | L64: Yes | M64: No | N64: Yes | O64: Yes
A65: 2008 | B65: Callenbach | C65: A people's parliament: a citizen's legislature | D65: 30 | E65: 5 | F65: 1 | G65: 350 | H65: =D65/(G65/100) -> 8.5714286 | I65: =G65/D65 -> 11.666667 | J65: =IF(F65=0,4,(E65-'Key to Columns'!$B$28)*'Key to Columns'!$B$29/('Key to Columns'!$B$29+'Key to Columns'!$B$30/F65)+'Key to Columns'!$B$28) -> 4.4083424 | K65: 3 editors | L65: No | M65: No | N65: Yes | O65: Yes
A66: 2008 | B66: Rostboll | C66: Deliberative freedom: deliberative democracy as critical theory | D66: 17 | F66: 0 | G66: 312 | H66: =D66/(G66/100) -> 5.4487179 | I66: =G66/D66 -> 18.352941 | J66: =IF(F66=0,4,(E66-'Key to Columns'!$B$28)*'Key to Columns'!$B$29/('Key to Columns'!$B$29+'Key to Columns'!$B$30/F66)+'Key to Columns'!$B$28) -> 4 | L66: No | M66: Yes | N66: Yes | O66: No
A67: 2008 | B67: Sutherland, Keith | C67: A people's parliament: a citizen's legislature | D67: 12 | E67: 5 | F67: 1 | G67: 313 | H67: =D67/(G67/100) -> 3.8338658 | I67: =G67/D67 -> 26.083333 | J67: =IF(F67=0,4,(E67-'Key to Columns'!$B$28)*'Key to Columns'!$B$29/('Key to Columns'!$B$29+'Key to Columns'!$B$30/F67)+'Key to Columns'!$B$28) -> 4.4083424 | K67: 4 authors | L67: No | M67: No | N67: Yes | O67: Yes
A68: 2009 | B68: Dowlen | C68: Political potential of sortition: a study of the random selection of citizens for pubic office | D68: 25 | E68: 4.7 | F68: 4 | G68: 300 | H68: =D68/(G68/100) -> 8.3333333 | I68: =G68/D68 -> 12 | J68: =IF(F68=0,4,(E68-'Key to Columns'!$B$28)*'Key to Columns'!$B$29/('Key to Columns'!$B$29+'Key to Columns'!$B$30/F68)+'Key to Columns'!$B$28) -> 4.4396662 | L68: No | M68: No | N68: Yes | O68: Yes
A69: 2009 | B69: Kahane, David | C69: Deliberative democracy in practice | D69: 38 | F69: 0 | G69: 264 | H69: =D69/(G69/100) -> 14.393939 | I69: =G69/D69 -> 6.9473684 | J69: =IF(F69=0,4,(E69-'Key to Columns'!$B$28)*'Key to Columns'!$B$29/('Key to Columns'!$B$29+'Key to Columns'!$B$30/F69)+'Key to Columns'!$B$28) -> 4 | K69: 1 editor | L69: No | M69: Yes | N69: Yes | O69: No
A70: 2010 | B70: Moore, J.M. | C70: Aristotle and Xenophon on democracy and oligarchy | D70: 17 | E70: 4.5 | F70: 24 | G70: 326 | H70: =D70/(G70/100) -> 5.2147239 | I70: =G70/D70 -> 19.176471 | J70: =IF(F70=0,4,(E70-'Key to Columns'!$B$28)*'Key to Columns'!$B$29/('Key to Columns'!$B$29+'Key to Columns'!$B$30/F70)+'Key to Columns'!$B$28) -> 4.450269 | L70: Yes | M70: No | N70: Yes | O70: No
A71: 2011 | B71: Burnheim | C71: To reason why: from religion to philosophy and beyond | D71: 18 | F71: 0 | G71: 160 | H71: =D71/(G71/100) -> 11.25 | I71: =G71/D71 -> 8.8888889 | J71: =IF(F71=0,4,(E71-'Key to Columns'!$B$28)*'Key to Columns'!$B$29/('Key to Columns'!$B$29+'Key to Columns'!$B$30/F71)+'Key to Columns'!$B$28) -> 4 | K71: autobiography | L71: No | M71: No | N71: Yes | O71: No
A72: 2011 | B72: Cavalier, Robert | C72: Approaching deliberative democracy: theory and practice | D72: 15 | E72: 5 | F72: 3 | G72: 272 | H72: =D72/(G72/100) -> 5.5147059 | I72: =G72/D72 -> 18.133333 | J72: =IF(F72=0,4,(E72-'Key to Columns'!$B$28)*'Key to Columns'!$B$29/('Key to Columns'!$B$29+'Key to Columns'!$B$30/F72)+'Key to Columns'!$B$28) -> 4.4765224 | L72: No | M72: Yes | N72: Yes | O72: No
A73: 2011 | B73: Delannoi, Gil, et al | C73: Direct democracy and Sortition | D73: 0 | F73: 0 | G73: 98 | H73: =D73/(G73/100) -> 0 | I73: =G73/D73 -> #DIV/0! | J73: =IF(F73=0,4,(E73-'Key to Columns'!$B$28)*'Key to Columns'!$B$29/('Key to Columns'!$B$29+'Key to Columns'!$B$30/F73)+'Key to Columns'!$B$28) -> 4 | K73: Paris Conference 6 names - Free PDF download | L73: No | M73: No | N73: Yes | O73: No
A74: 2011 | B74: Fishkin, James | C74: When the people speak: deliberative democracy and public consultation | D74: 10 | E74: 4.2 | F74: 12 | G74: 254 | H74: =D74/(G74/100) -> 3.9370079 | I74: =G74/D74 -> 25.4 | J74: =IF(F74=0,4,(E74-'Key to Columns'!$B$28)*'Key to Columns'!$B$29/('Key to Columns'!$B$29+'Key to Columns'!$B$30/F74)+'Key to Columns'!$B$28) -> 4.2910334 | L74: No | M74: Yes | N74: Yes | O74: No
A75: 2011 | B75: Fournier | C75: When citizens decide: lessons from citizen's assemblies on electoral reform | D75: 124 | E75: 4 | F75: 1 | G75: 212 | H75: =D75/(G75/100) -> 58.490566 | I75: =G75/D75 -> 1.7096774 | J75: =IF(F75=0,4,(E75-'Key to Columns'!$B$28)*'Key to Columns'!$B$29/('Key to Columns'!$B$29+'Key to Columns'!$B$30/F75)+'Key to Columns'!$B$28) -> 4.3432202 | L75: No | M75: No | N75: Yes | O75: No
A76: 2011 | B76: McCormick, John P. | C76: Machiavellian Democracy (2011) | D76: 30 | E76: 4.4 | F76: 14 | G76: 266 | H76: =D76/(G76/100) -> 11.278195 | I76: =G76/D76 -> 8.8666667 | J76: =IF(F76=0,4,(E76-'Key to Columns'!$B$28)*'Key to Columns'!$B$29/('Key to Columns'!$B$29+'Key to Columns'!$B$30/F76)+'Key to Columns'!$B$28) -> 4.383358 | L76: No | M76: No | N76: No | O76: Yes
A77: 2011 | B77: Parker, Joel Matthew | C77: Randomness and legitimacy in selecting democratic representatives | D77: 0 | F77: 0 | G77: 228 | J77: =IF(F77=0,4,(E77-'Key to Columns'!$B$28)*'Key to Columns'!$B$29/('Key to Columns'!$B$29+'Key to Columns'!$B$30/F77)+'Key to Columns'!$B$28) -> 4 | K77: Dissertation - Free PDF download | L77: No | M77: No | N77: Yes | O77: No
A78: 2011 | B78: Stone, Peter | C78: Lotteries in Public Life: A reader | D78: 30 | F78: 0 | G78: 250 | H78: =D78/(G78/100) -> 12 | I78: =G78/D78 -> 8.3333333 | J78: =IF(F78=0,4,(E78-'Key to Columns'!$B$28)*'Key to Columns'!$B$29/('Key to Columns'!$B$29+'Key to Columns'!$B$30/F78)+'Key to Columns'!$B$28) -> 4 | K78: 14 papers; pp. 33-48 reprint the Mueller et al 1972 paper | L78: No | M78: No | N78: Yes | O78: Yes
A79: 2011 | B79: Stone, Peter | C79: The Luck of the Draw: the role of lotteries in decision making | D79: 77 | E79: 5 | F79: 4 | G79: 207 | H79: =D79/(G79/100) -> 37.198068 | I79: =G79/D79 -> 2.6883117 | J79: =IF(F79=0,4,(E79-'Key to Columns'!$B$28)*'Key to Columns'!$B$29/('Key to Columns'!$B$29+'Key to Columns'!$B$30/F79)+'Key to Columns'!$B$28) -> 4.5050408 | L79: No | M79: No | N79: No | O79: Yes
A80: 2011 | B80: Wood, Ellen Meiksins | C80: Citizens to Lords: a social history of Western political thought from Antiquity to the Late Middle Ages | D80: 30 | E80: 4.6 | F80: 16 | G80: 256 | H80: =D80/(G80/100) -> 11.71875 | I80: =G80/D80 -> 8.5333333 | J80: =IF(F80=0,4,(E80-'Key to Columns'!$B$28)*'Key to Columns'!$B$29/('Key to Columns'!$B$29+'Key to Columns'!$B$30/F80)+'Key to Columns'!$B$28) -> 4.4898711 | L80: Yes | M80: No | N80: Yes | O80: No
A81: 2012 | B81: Chappel | C81: Deliberative democracy: a critical introduction | D81: 35 | E81: 4.5 | F81: 5 | H81: =D81/(G81/100) -> #DIV/0! | I81: =G81/D81 -> 0 | J81: =IF(F81=0,4,(E81-'Key to Columns'!$B$28)*'Key to Columns'!$B$29/('Key to Columns'!$B$29+'Key to Columns'!$B$30/F81)+'Key to Columns'!$B$28) -> 4.4014519 | K81: Unknown # pages | L81: No | M81: Yes | N81: Yes | O81: No
A82: 2012 | B82: Steiner, Jurg | C82: The foundations of Deliberative democracy: Empirical Research and normative implications | D82: 19 | E82: 4.5 | F82: 5 | G82: 288 | H82: =D82/(G82/100) -> 6.5972222 | I82: =G82/D82 -> 15.157895 | J82: =IF(F82=0,4,(E82-'Key to Columns'!$B$28)*'Key to Columns'!$B$29/('Key to Columns'!$B$29+'Key to Columns'!$B$30/F82)+'Key to Columns'!$B$28) -> 4.4014519 | L82: No | M82: Yes | N82: Yes | O82: No
A83: 2013 | B83: della Porta | C83: Can democracy be saved?: participation, deliberation and social movements | D83: 27 | E83: 4.5 | F83: 4 | G83: 256 | H83: =D83/(G83/100) -> 10.546875 | I83: =G83/D83 -> 9.4814815 | J83: =IF(F83=0,4,(E83-'Key to Columns'!$B$28)*'Key to Columns'!$B$29/('Key to Columns'!$B$29+'Key to Columns'!$B$30/F83)+'Key to Columns'!$B$28) -> 4.3960832 | K83: maybe discusses sortition | L83: No | M83: Yes | N83: Yes | O83: No
A84: 2013 | B84: Lucardie | C84: Democratic extremism in theory and practice: all power to the people | D84: 55 | E84: 5 | F84: 1 | G84: 206 | H84: =D84/(G84/100) -> 26.699029 | I84: =G84/D84 -> 3.7454545 | J84: =IF(F84=0,4,(E84-'Key to Columns'!$B$28)*'Key to Columns'!$B$29/('Key to Columns'!$B$29+'Key to Columns'!$B$30/F84)+'Key to Columns'!$B$28) -> 4.4083424 | K84: Opposes sortition | L84: No | M84: No | N84: Yes | O84: No
A85: 2013 | B85: Miller, Keith W. | C85: True Democracy: Empowering Everyday Americans through the Legislative Lottery (2013) | D85: 22 | F85: 0 | G85: 522 | H85: =D85/(G85/100) -> 4.2145594 | I85: =G85/D85 -> 23.727273 | J85: =IF(F85=0,4,(E85-'Key to Columns'!$B$28)*'Key to Columns'!$B$29/('Key to Columns'!$B$29+'Key to Columns'!$B$30/F85)+'Key to Columns'!$B$28) -> 4 | L85: No | M85: No | N85: No | O85: Yes
A86: 2013 | B86: Parkinson, John | C86: Deliberative systems: deliberative democracy at the large scale | D86: 45 | E86: 4.5 | F86: 2 | G86: 204 | H86: =D86/(G86/100) -> 22.058824 | I86: =G86/D86 -> 4.5333333 | J86: =IF(F86=0,4,(E86-'Key to Columns'!$B$28)*'Key to Columns'!$B$29/('Key to Columns'!$B$29+'Key to Columns'!$B$30/F86)+'Key to Columns'!$B$28) -> 4.3833761 | K86: 2 editors | L86: No | M86: Yes | N86: Yes | O86: No
A87: 2014 | B87: Arriaga, Manuel | C87: Rebooting Democracy: A Citizen’s Guide to Reinventing Politics (2014) | D87: 9 | E87: 4.3 | F87: 108 | G87: 129 | H87: =D87/(G87/100) -> 6.9767442 | I87: =G87/D87 -> 14.333333 | J87: =IF(F87=0,4,(E87-'Key to Columns'!$B$28)*'Key to Columns'!$B$29/('Key to Columns'!$B$29+'Key to Columns'!$B$30/F87)+'Key to Columns'!$B$28) -> 4.307876 | L87: No | M87: No | N87: No | O87: Yes
A88: 2014 | B88: Bitros, George C. and Nicholas C. Kyriazis | C88: Essays in contemporary economics: a festschrift in memory of A.D. Karayiannis | D88: 99 | F88: 0 | G88: 247 | H88: =D88/(G88/100) -> 40.080972 | I88: =G88/D88 -> 2.4949495 | J88: =IF(F88=0,4,(E88-'Key to Columns'!$B$28)*'Key to Columns'!$B$29/('Key to Columns'!$B$29+'Key to Columns'!$B$30/F88)+'Key to Columns'!$B$28) -> 4 | K88: 2 editors | L88: No | M88: No | N88: Yes | O88: No
A89: 2014 | B89: Burnheim | C89: Is democracy possible? The alternative to electoral politics | D89: 3 | E89: 4.3 | F89: 4 | G89: 258 | H89: =D89/(G89/100) -> 1.1627907 | I89: =G89/D89 -> 86 | J89: =IF(F89=0,4,(E89-'Key to Columns'!$B$28)*'Key to Columns'!$B$29/('Key to Columns'!$B$29+'Key to Columns'!$B$30/F89)+'Key to Columns'!$B$28) -> 4.3525001 | K89: Kindle only; revises 1985 original | L89: No | M89: No | N89: Yes | O89: No
A90: 2014 | B90: Elstub | C90: Deliberative democracy: issues and cases | D90: 15 | E90: 5 | F90: 1 | G90: 256 | H90: =D90/(G90/100) -> 5.859375 | I90: =G90/D90 -> 17.066667 | J90: =IF(F90=0,4,(E90-'Key to Columns'!$B$28)*'Key to Columns'!$B$29/('Key to Columns'!$B$29+'Key to Columns'!$B$30/F90)+'Key to Columns'!$B$28) -> 4.4083424 | K90: 2 editors | L90: No | M90: Yes | N90: Yes | O90: No
A91: 2014 | B91: Gronlund | C91: Deliberative mini-publics: involving citizens in the democratic process | D91: 59 | F91: 0 | G91: 272 | H91: =D91/(G91/100) -> 21.691176 | I91: =G91/D91 -> 4.6101695 | J91: =IF(F91=0,4,(E91-'Key to Columns'!$B$28)*'Key to Columns'!$B$29/('Key to Columns'!$B$29+'Key to Columns'!$B$30/F91)+'Key to Columns'!$B$28) -> 4 | K91: 3 editors | L91: No | M91: Yes | N91: Yes | O91: No
A92: 2014 | B92: Mendes | C92: Constitutional Courts and Deliberative democracy | D92: 24 | E92: 4.5 | F92: 4 | G92: 260 | H92: =D92/(G92/100) -> 9.2307692 | I92: =G92/D92 -> 10.833333 | J92: =IF(F92=0,4,(E92-'Key to Columns'!$B$28)*'Key to Columns'!$B$29/('Key to Columns'!$B$29+'Key to Columns'!$B$30/F92)+'Key to Columns'!$B$28) -> 4.3960832 | L92: No | M92: Yes | N92: Yes | O92: No
A93: 2014 | B93: Phillips, Michael and Ernest Callenbach | C93: A citizen legislature | D93: 3 | E93: 3.8 | F93: 8 | G93: 90 | H93: =D93/(G93/100) -> 3.3333333 | I93: =G93/D93 -> 30 | J93: =IF(F93=0,4,(E93-'Key to Columns'!$B$28)*'Key to Columns'!$B$29/('Key to Columns'!$B$29+'Key to Columns'!$B$30/F93)+'Key to Columns'!$B$28) -> 4.1641816 | K93: Kindle only; revises 1985 original that is free online at people.well.com/user/mp/citleg & citleg2 | L93: No | M93: No | N93: Yes | O93: No
A94: 2015 | B94: Fuller, Roslyn | C94: Beasts and Gods: How Democracy Changed Its Meaning and Lost Its Purpose (2015) | D94: 26 | E94: 4.3 | F94: 15 | G94: 424 | H94: =D94/(G94/100) -> 6.1320755 | I94: =G94/D94 -> 16.307692 | J94: =IF(F94=0,4,(E94-'Key to Columns'!$B$28)*'Key to Columns'!$B$29/('Key to Columns'!$B$29+'Key to Columns'!$B$30/F94)+'Key to Columns'!$B$28) -> 4.3328276 | L94: Yes | M94: No | N94: No | O94: Yes
A95: 2015 | B95: Junru | C95: Deliberative democracy: interpreting china's democratic system | D95: 23 | F95: 0 | G95: 192 | H95: =D95/(G95/100) -> 11.979167 | I95: =G95/D95 -> 8.3478261 | J95: =IF(F95=0,4,(E95-'Key to Columns'!$B$28)*'Key to Columns'!$B$29/('Key to Columns'!$B$29+'Key to Columns'!$B$30/F95)+'Key to Columns'!$B$28) -> 4 | K95: China | L95: No | M95: Yes | N95: Yes | O95: No
A96: 2015 | B96: Martin, Jonathan H. | C96: Empowering Progressive Third Parties in the United States: Defeating Duopoly, Advancing Democracy | D96: 47 | E96: 5 | F96: 8 | G96: 294 | H96: =D96/(G96/100) -> 15.986395 | I96: =G96/D96 -> 6.2553191 | J96: =IF(F96=0,4,(E96-'Key to Columns'!$B$28)*'Key to Columns'!$B$29/('Key to Columns'!$B$29+'Key to Columns'!$B$30/F96)+'Key to Columns'!$B$28) -> 4.5936013 | K96: 1 editor | L96: No | M96: No | N96: Yes | O96: No
A97: 2015 | B97: Neblo | C97: Deliberative democracy between theory and practice | D97: 17 | E97: 4.6 | F97: 3 | G97: 232 | H97: =D97/(G97/100) -> 7.3275862 | I97: =G97/D97 -> 13.647059 | J97: =IF(F97=0,4,(E97-'Key to Columns'!$B$28)*'Key to Columns'!$B$29/('Key to Columns'!$B$29+'Key to Columns'!$B$30/F97)+'Key to Columns'!$B$28) -> 4.407381 | L97: No | M97: Yes | N97: Yes | O97: No
A98: 2015 | B98: Wood, Ellen Meiksins | C98: Peasant-citizen and slave: the foundations of Athenian democracy | D98: 27 | E98: 4.2 | F98: 4 | G98: 224 | H98: =D98/(G98/100) -> 12.053571 | I98: =G98/D98 -> 8.2962963 | J98: =IF(F98=0,4,(E98-'Key to Columns'!$B$28)*'Key to Columns'!$B$29/('Key to Columns'!$B$29+'Key to Columns'!$B$30/F98)+'Key to Columns'!$B$28) -> 4.3307086 | L98: Yes | M98: No | N98: Yes | O98: No
A99: 2016 | B99: Burnheim | C99: Demarchy manifesto: for better public policy | D99: 27 | E99: 5 | F99: 1 | G99: 130 | H99: =D99/(G99/100) -> 20.769231 | I99: =G99/D99 -> 4.8148148 | J99: =IF(F99=0,4,(E99-'Key to Columns'!$B$28)*'Key to Columns'!$B$29/('Key to Columns'!$B$29+'Key to Columns'!$B$30/F99)+'Key to Columns'!$B$28) -> 4.4083424 | L99: No | M99: Yes | N99: Yes | O99: No
A100: 2016 | B100: Coleman, Stephen | C100: Deliberation and democracy: innovative processes and institutions | D100: 58 | F100: 0 | G100: 313 | H100: =D100/(G100/100) -> 18.530351 | I100: =G100/D100 -> 5.3965517 | J100: =IF(F100=0,4,(E100-'Key to Columns'!$B$28)*'Key to Columns'!$B$29/('Key to Columns'!$B$29+'Key to Columns'!$B$30/F100)+'Key to Columns'!$B$28) -> 4 | L100: No | M100: Yes | N100: Yes | O100: No
...

Sheet Key to Columns
A1: Key to Columns in "Sortition Books" tab
A3: Year | B3: Year as listed on Amazon.com - earlier year for reprints, if available.
A4: Author | B4: Frequently, only the last name of first author/editor is listed.
A5: Title | B5: As listed on Amazon.com, capitalization after first word often ignored.
A6: Price | B6: Typical price for non-Kindle versions.
A7: Rating | B7: Average rating as submitted by book readers to Amazon.
A8: # Ratings | B8: Number of ratings submitted to Amazon.
A9: Pages | B9: Number of pages in book.
A10: $/100pages | B10: Price per 100 pages.
A11: Pages/$ | B11: Number of pages per $1.00 in price
A12: Adj Rating | B12: Adjusted Rating - adjusted to smooth out randomness in book ratings - See formula below.
A13: Remarks | B13: Remarks by Carl Lundgren
A14: AGD | B14: Ancient Greek Democracy
... A17: EBL | B17: Book listed at https://equalitybylot.com/literature/ (including blog comments) as of 9/20/2026 (2024 last year listed)
A19: Source: General Internet search by Carl Lundgren; queries for books on Amazon.com; queries of Google, Google Scholar, or Google Books.
A20: Books related to sortition found during August/September/October 2026 web search.
A21: Only books or scholarly dissertations are included; journal articles, opinion pieces, or web pages are not included.
A22: October 13, 2026 by Carl Lundgren
A24: Adj Rating | B24: = Adjusted Rating, to smooth out randomness in book ratings, in accordance with formula below.
A25: If # ratings > 0, then Adj Rating = (A-C)*D/(D+E/B)+C, where:
A26: A | B26: Average Rating of Book as reported by Amazon.com book readers.
A27: B | B27: Number of Amazon ratings reported for book.
A28: C | B28: 4.3671284 | C28: Average Rating per Rater
A29: D | B29: 0.069042017 | C29: Variance of average rating per book for all books with # ratings >=10.
A30: E | B30: 0.99115 | C30: Average variance of book ratings for 4 books with average rating of 4.3 or 4.4.
A31: If # ratings = 0, then Adj Rating is set to 4.00, which is below all other Adj Ratings.
